BEGIN:VCALENDAR
VERSION:2.0
PRODID:-//Ziber2013/
CALSCALE:GREGORIAN
BEGIN:VEVENT
UID:238888@https://www.westwijzerhelmond.nl
DTSTART:20260624T000000
DTEND:20260624T235959
SUMMARY:Studiedag
DESCRIPTION:<p>Alle leerlingen zijn deze dag vrij.</p>
LOCATION:Westwijzer Helmond\, Cortenbachstraat 70\, 5707 TJ Helmond
X-MICROSOFT-CDO-ALLDAYEVENT:TRUE
ATTACH;FMTTYPE=image/jpeg:/content/monsterGallery/studyday.png?width=1600&height=1200
SEQUENCE:0
DTSTAMP:20260420T011818
END:VEVENT
END:VCALENDAR
