BEGIN:VCALENDAR
VERSION:2.0
PRODID:-//Ziber2013/
CALSCALE:GREGORIAN
BEGIN:VEVENT
UID:238889@https://www.westwijzerhelmond.nl
DTSTART:20260626T000000
DTEND:20260626T235959
SUMMARY:2e Rapport groep 1 t/m 8
DESCRIPTION:
LOCATION:Westwijzer Helmond\, Cortenbachstraat 70\, 5707 TJ Helmond
X-MICROSOFT-CDO-ALLDAYEVENT:TRUE
ATTACH;FMTTYPE=image/jpeg:/content/monsterGallery/schoolreport.png?width=1600&height=1200
SEQUENCE:0
DTSTAMP:20260420T011816
END:VEVENT
END:VCALENDAR
